BEGIN:VCALENDAR
VERSION:2.0
PRODID:-//Street Player - ECPv6.15.12.2//NONSGML v1.0//EN
CALSCALE:GREGORIAN
METHOD:PUBLISH
X-WR-CALNAME:Street Player
X-ORIGINAL-URL:https://streetplayeraz.com
X-WR-CALDESC:Events for Street Player
REFRESH-INTERVAL;VALUE=DURATION:PT1H
X-Robots-Tag:noindex
X-PUBLISHED-TTL:PT1H
BEGIN:VTIMEZONE
TZID:America/New_York
BEGIN:DAYLIGHT
TZOFFSETFROM:-0500
TZOFFSETTO:-0400
TZNAME:EDT
DTSTART:20240310T070000
END:DAYLIGHT
BEGIN:STANDARD
TZOFFSETFROM:-0400
TZOFFSETTO:-0500
TZNAME:EST
DTSTART:20241103T060000
END:STANDARD
BEGIN:DAYLIGHT
TZOFFSETFROM:-0500
TZOFFSETTO:-0400
TZNAME:EDT
DTSTART:20250309T070000
END:DAYLIGHT
BEGIN:STANDARD
TZOFFSETFROM:-0400
TZOFFSETTO:-0500
TZNAME:EST
DTSTART:20251102T060000
END:STANDARD
BEGIN:DAYLIGHT
TZOFFSETFROM:-0500
TZOFFSETTO:-0400
TZNAME:EDT
DTSTART:20260308T070000
END:DAYLIGHT
BEGIN:STANDARD
TZOFFSETFROM:-0400
TZOFFSETTO:-0500
TZNAME:EST
DTSTART:20261101T060000
END:STANDARD
END:VTIMEZONE
BEGIN:VEVENT
DTSTART;TZID=America/New_York:20251031T140000
DTEND;TZID=America/New_York:20251031T150000
DTSTAMP:20260421T152749
CREATED:20251025T170440Z
LAST-MODIFIED:20251025T170440Z
UID:950-1761919200-1761922800@streetplayeraz.com
SUMMARY:Hacienda Del Rey (solo)
DESCRIPTION:Residents only
URL:https://streetplayeraz.com/event/hacienda-del-rey-solo-2/
LOCATION:AZ
END:VEVENT
BEGIN:VEVENT
DTSTART;TZID=America/New_York:20251031T180000
DTEND;TZID=America/New_York:20251031T210000
DTSTAMP:20260421T152749
CREATED:20251025T170555Z
LAST-MODIFIED:20251025T170555Z
UID:952-1761933600-1761944400@streetplayeraz.com
SUMMARY:Arizona Traditions
DESCRIPTION:Residents only
URL:https://streetplayeraz.com/event/arizona-traditions-5/
LOCATION:AZ
END:VEVENT
END:VCALENDAR