BEGIN:VCALENDAR
VERSION:2.0
PRODID:-//Street Player - ECPv6.15.12.2//NONSGML v1.0//EN
CALSCALE:GREGORIAN
METHOD:PUBLISH
X-ORIGINAL-URL:https://streetplayeraz.com
X-WR-CALDESC:Events for Street Player
REFRESH-INTERVAL;VALUE=DURATION:PT1H
X-Robots-Tag:noindex
X-PUBLISHED-TTL:PT1H
BEGIN:VTIMEZONE
TZID:America/New_York
BEGIN:DAYLIGHT
TZOFFSETFROM:-0500
TZOFFSETTO:-0400
TZNAME:EDT
DTSTART:20250309T070000
END:DAYLIGHT
BEGIN:STANDARD
TZOFFSETFROM:-0400
TZOFFSETTO:-0500
TZNAME:EST
DTSTART:20251102T060000
END:STANDARD
BEGIN:DAYLIGHT
TZOFFSETFROM:-0500
TZOFFSETTO:-0400
TZNAME:EDT
DTSTART:20260308T070000
END:DAYLIGHT
BEGIN:STANDARD
TZOFFSETFROM:-0400
TZOFFSETTO:-0500
TZNAME:EST
DTSTART:20261101T060000
END:STANDARD
BEGIN:DAYLIGHT
TZOFFSETFROM:-0500
TZOFFSETTO:-0400
TZNAME:EDT
DTSTART:20270314T070000
END:DAYLIGHT
BEGIN:STANDARD
TZOFFSETFROM:-0400
TZOFFSETTO:-0500
TZNAME:EST
DTSTART:20271107T060000
END:STANDARD
END:VTIMEZONE
BEGIN:VEVENT
DTSTART;TZID=America/New_York:20260205T153000
DTEND;TZID=America/New_York:20260205T163000
DTSTAMP:20260421T104903
CREATED:20260204T003257Z
LAST-MODIFIED:20260204T003257Z
UID:1005-1770305400-1770309000@streetplayeraz.com
SUMMARY:Cadence Chandler (private)
DESCRIPTION:Solo
URL:https://streetplayeraz.com/event/cadence-chandler-private-2/
LOCATION:AZ
END:VEVENT
BEGIN:VEVENT
DTSTART;TZID=America/New_York:20260205T170000
DTEND;TZID=America/New_York:20260205T210000
DTSTAMP:20260421T104903
CREATED:20260204T003408Z
LAST-MODIFIED:20260204T003408Z
UID:1006-1770310800-1770325200@streetplayeraz.com
SUMMARY:Mountain View Pub (with Kevin Shepherd)
DESCRIPTION:
URL:https://streetplayeraz.com/event/mountain-view-pub-with-kevin-shepherd/
LOCATION:Mountain View Pub\, 7033 E Cave Creek Rd\, Cave Creek\, AZ\, 85331\, United States
END:VEVENT
END:VCALENDAR