BEGIN:VCALENDAR
VERSION:2.0
PRODID:-//Street Player - ECPv6.15.12.2//NONSGML v1.0//EN
CALSCALE:GREGORIAN
METHOD:PUBLISH
X-WR-CALNAME:Street Player
X-ORIGINAL-URL:https://streetplayeraz.com
X-WR-CALDESC:Events for Street Player
REFRESH-INTERVAL;VALUE=DURATION:PT1H
X-Robots-Tag:noindex
X-PUBLISHED-TTL:PT1H
BEGIN:VTIMEZONE
TZID:America/New_York
BEGIN:DAYLIGHT
TZOFFSETFROM:-0500
TZOFFSETTO:-0400
TZNAME:EDT
DTSTART:20240310T070000
END:DAYLIGHT
BEGIN:STANDARD
TZOFFSETFROM:-0400
TZOFFSETTO:-0500
TZNAME:EST
DTSTART:20241103T060000
END:STANDARD
BEGIN:DAYLIGHT
TZOFFSETFROM:-0500
TZOFFSETTO:-0400
TZNAME:EDT
DTSTART:20250309T070000
END:DAYLIGHT
BEGIN:STANDARD
TZOFFSETFROM:-0400
TZOFFSETTO:-0500
TZNAME:EST
DTSTART:20251102T060000
END:STANDARD
BEGIN:DAYLIGHT
TZOFFSETFROM:-0500
TZOFFSETTO:-0400
TZNAME:EDT
DTSTART:20260308T070000
END:DAYLIGHT
BEGIN:STANDARD
TZOFFSETFROM:-0400
TZOFFSETTO:-0500
TZNAME:EST
DTSTART:20261101T060000
END:STANDARD
END:VTIMEZONE
BEGIN:VEVENT
DTSTART;TZID=America/New_York:20250710T180000
DTEND;TZID=America/New_York:20250710T210000
DTSTAMP:20260421T183426
CREATED:20250629T154618Z
LAST-MODIFIED:20250629T154618Z
UID:908-1752170400-1752181200@streetplayeraz.com
SUMMARY:The Grand Hyatt at Scottsdale
DESCRIPTION:See The VanReed Brothers
URL:https://streetplayeraz.com/event/the-grand-hyatt-at-scottsdale/
LOCATION:AZ
END:VEVENT
BEGIN:VEVENT
DTSTART;TZID=America/New_York:20250708T170000
DTEND;TZID=America/New_York:20250708T200000
DTSTAMP:20260421T183426
CREATED:20250629T154415Z
LAST-MODIFIED:20250629T154415Z
UID:907-1751994000-1752004800@streetplayeraz.com
SUMMARY:Juniper Ridge
DESCRIPTION:Private event
URL:https://streetplayeraz.com/event/juniper-ridge/
LOCATION:AZ
END:VEVENT
BEGIN:VEVENT
DTSTART;TZID=America/New_York:20250706T080000
DTEND;TZID=America/New_York:20250706T170000
DTSTAMP:20260421T183426
CREATED:20250629T154317Z
LAST-MODIFIED:20250629T154317Z
UID:906-1751788800-1751821200@streetplayeraz.com
SUMMARY:Munich Haus
DESCRIPTION:Solo
URL:https://streetplayeraz.com/event/munich-haus-4/
LOCATION:Munich Haus\, 2044 E: White Mountain\, Pinetop\, AZ\, 85935\, United States
END:VEVENT
BEGIN:VEVENT
DTSTART;TZID=America/New_York:20250705T180000
DTEND;TZID=America/New_York:20250705T210000
DTSTAMP:20260421T183426
CREATED:20250629T154129Z
LAST-MODIFIED:20250629T154129Z
UID:905-1751738400-1751749200@streetplayeraz.com
SUMMARY:White Mountain Vacation Resort
DESCRIPTION:Private event
URL:https://streetplayeraz.com/event/white-mountain-vacation-resort-2/
LOCATION:AZ
END:VEVENT
BEGIN:VEVENT
DTSTART;TZID=America/New_York:20250702T170000
DTEND;TZID=America/New_York:20250702T200000
DTSTAMP:20260421T183426
CREATED:20250629T153956Z
LAST-MODIFIED:20250629T154211Z
UID:901-1751475600-1751486400@streetplayeraz.com
SUMMARY:The Orchard at Charlie Clarks
DESCRIPTION:Solo
URL:https://streetplayeraz.com/event/the-orchard-at-charlie-clarks/
LOCATION:Charlie Clarks  SteKhouse\, 1701 E. White Mountain Blvd.\, Pinetop\, AZ\, United States
END:VEVENT
BEGIN:VEVENT
DTSTART;TZID=America/New_York:20250628T130000
DTEND;TZID=America/New_York:20250628T160000
DTSTAMP:20260421T183426
CREATED:20250429T000641Z
LAST-MODIFIED:20250429T000641Z
UID:900-1751115600-1751126400@streetplayeraz.com
SUMMARY:The Lion’s Den
DESCRIPTION:Solo
URL:https://streetplayeraz.com/event/the-lions-den-5/
LOCATION:The Lion’s Den\, 2408 E. White Mountain blvd\, Pinetop\, AZ\, United States
END:VEVENT
BEGIN:VEVENT
DTSTART;TZID=America/New_York:20250622T120000
DTEND;TZID=America/New_York:20250622T150000
DTSTAMP:20260421T183426
CREATED:20250429T000515Z
LAST-MODIFIED:20250429T000515Z
UID:899-1750593600-1750604400@streetplayeraz.com
SUMMARY:Munich Haus
DESCRIPTION:Solo
URL:https://streetplayeraz.com/event/munich-haus-3/
LOCATION:Munich Haus\, 2044 E: White Mountain\, Pinetop\, AZ\, 85935\, United States
END:VEVENT
BEGIN:VEVENT
DTSTART;TZID=America/New_York:20250621T180000
DTEND;TZID=America/New_York:20250621T210000
DTSTAMP:20260421T183426
CREATED:20250429T000405Z
LAST-MODIFIED:20250429T000405Z
UID:898-1750528800-1750539600@streetplayeraz.com
SUMMARY:The Irish Colleen
DESCRIPTION:Solo
URL:https://streetplayeraz.com/event/the-irish-colleen/
LOCATION:Irish Colleen\, 1676 White Mountain Blvd\, Lakeside\, AZ\, United States
END:VEVENT
BEGIN:VEVENT
DTSTART;TZID=America/New_York:20250620T190000
DTEND;TZID=America/New_York:20250620T220000
DTSTAMP:20260421T183427
CREATED:20250429T000259Z
LAST-MODIFIED:20250429T000259Z
UID:897-1750446000-1750456800@streetplayeraz.com
SUMMARY:Ye Olde Tavern
DESCRIPTION:Solo
URL:https://streetplayeraz.com/event/ye-olde-tavern-2/
LOCATION:Ye Olde Tavern\, 42640 US 180 #191\, Alpine\, AZ\, 85920\, United States
END:VEVENT
BEGIN:VEVENT
DTSTART;TZID=America/New_York:20250619T170000
DTEND;TZID=America/New_York:20250619T190000
DTSTAMP:20260421T183427
CREATED:20250429T000156Z
LAST-MODIFIED:20250429T000156Z
UID:896-1750352400-1750359600@streetplayeraz.com
SUMMARY:Pinetop Lakes HOA
DESCRIPTION:solo \nMembers only
URL:https://streetplayeraz.com/event/pinetop-lakes-hoa-2/
LOCATION:AZ
END:VEVENT
BEGIN:VEVENT
DTSTART;TZID=America/New_York:20250614T170000
DTEND;TZID=America/New_York:20250614T200000
DTSTAMP:20260421T183427
CREATED:20250429T000034Z
LAST-MODIFIED:20250429T000034Z
UID:895-1749920400-1749931200@streetplayeraz.com
SUMMARY:Buffalo Bills Tavern
DESCRIPTION:Street Player North
URL:https://streetplayeraz.com/event/buffalo-bills-tavern/
LOCATION:Buffalo Bills Restaurant\, 400 n. Clark Rd\, Show Low\, AZ\, United States
END:VEVENT
BEGIN:VEVENT
DTSTART;TZID=America/New_York:20250612T143000
DTEND;TZID=America/New_York:20250612T153000
DTSTAMP:20260421T183427
CREATED:20250428T235849Z
LAST-MODIFIED:20250428T235849Z
UID:894-1749738600-1749742200@streetplayeraz.com
SUMMARY:ElDorado Senior Living
DESCRIPTION:Residents only
URL:https://streetplayeraz.com/event/eldorado-senior-living/
LOCATION:AZ
END:VEVENT
BEGIN:VEVENT
DTSTART;TZID=America/New_York:20250608T140000
DTEND;TZID=America/New_York:20250608T180000
DTSTAMP:20260421T183427
CREATED:20250428T235745Z
LAST-MODIFIED:20250428T235745Z
UID:893-1749391200-1749405600@streetplayeraz.com
SUMMARY:Mountain View Pub
DESCRIPTION:Summer schedule
URL:https://streetplayeraz.com/event/mountain-view-pub-47/
LOCATION:Mountain View Pub\, 7033 E Cave Creek Rd\, Cave Creek\, AZ\, 85331\, United States
END:VEVENT
BEGIN:VEVENT
DTSTART;TZID=America/New_York:20250607T183000
DTEND;TZID=America/New_York:20250607T213000
DTSTAMP:20260421T183427
CREATED:20250428T235643Z
LAST-MODIFIED:20250428T235643Z
UID:892-1749321000-1749331800@streetplayeraz.com
SUMMARY:Classic Rock Club of Sun City
DESCRIPTION:Members only
URL:https://streetplayeraz.com/event/classic-rock-club-of-sun-city/
LOCATION:AZ
END:VEVENT
BEGIN:VEVENT
DTSTART;TZID=America/New_York:20250529T170000
DTEND;TZID=America/New_York:20250529T200000
DTSTAMP:20260421T183427
CREATED:20250428T235538Z
LAST-MODIFIED:20250428T235538Z
UID:891-1748538000-1748548800@streetplayeraz.com
SUMMARY:The Lion’s Den
DESCRIPTION:Solo
URL:https://streetplayeraz.com/event/the-lions-den-4/
LOCATION:The Lion’s Den\, 2408 E. White Mountain blvd\, Pinetop\, AZ\, United States
END:VEVENT
BEGIN:VEVENT
DTSTART;TZID=America/New_York:20250526T110000
DTEND;TZID=America/New_York:20250526T130000
DTSTAMP:20260421T183427
CREATED:20250428T235439Z
LAST-MODIFIED:20250428T235439Z
UID:890-1748257200-1748264400@streetplayeraz.com
SUMMARY:Chandler Cadence
DESCRIPTION:Street Player Trio \nresidents only
URL:https://streetplayeraz.com/event/chandler-cadence/
LOCATION:AZ
END:VEVENT
BEGIN:VEVENT
DTSTART;TZID=America/New_York:20250517T180000
DTEND;TZID=America/New_York:20250517T210000
DTSTAMP:20260421T183427
CREATED:20250428T235125Z
LAST-MODIFIED:20250428T235125Z
UID:888-1747504800-1747515600@streetplayeraz.com
SUMMARY:Eagles Lodge of Surprise
DESCRIPTION:Street Player Trio \nmembers only
URL:https://streetplayeraz.com/event/eagles-lodge-of-surprise-2/
LOCATION:AZ
END:VEVENT
BEGIN:VEVENT
DTSTART;TZID=America/New_York:20250510T190000
DTEND;TZID=America/New_York:20250510T230000
DTSTAMP:20260421T183427
CREATED:20250428T235002Z
LAST-MODIFIED:20250428T235002Z
UID:887-1746903600-1746918000@streetplayeraz.com
SUMMARY:The Lion’s Den
DESCRIPTION:Street Player North
URL:https://streetplayeraz.com/event/the-lions-den-3/
LOCATION:The Lion’s Den\, 2408 E. White Mountain blvd\, Pinetop\, AZ\, United States
END:VEVENT
BEGIN:VEVENT
DTSTART;TZID=America/New_York:20250509T190000
DTEND;TZID=America/New_York:20250509T230000
DTSTAMP:20260421T183427
CREATED:20250428T234819Z
LAST-MODIFIED:20250428T234819Z
UID:884-1746817200-1746831600@streetplayeraz.com
SUMMARY:The Lion’s Den
DESCRIPTION:Street Player North
URL:https://streetplayeraz.com/event/the-lions-den-2/
LOCATION:The Lion’s Den\, 2408 E. White Mountain blvd\, Pinetop\, AZ\, United States
END:VEVENT
BEGIN:VEVENT
DTSTART;TZID=America/New_York:20250508T170000
DTEND;TZID=America/New_York:20250508T200000
DTSTAMP:20260421T183427
CREATED:20250428T235229Z
LAST-MODIFIED:20250428T235229Z
UID:889-1746723600-1746734400@streetplayeraz.com
SUMMARY:Pinetop Country Club
DESCRIPTION:Solo \nmembers only
URL:https://streetplayeraz.com/event/pinetop-country-club-2/
LOCATION:AZ
END:VEVENT
BEGIN:VEVENT
DTSTART;TZID=America/New_York:20250504T140000
DTEND;TZID=America/New_York:20250504T180000
DTSTAMP:20260421T183427
CREATED:20250428T234702Z
LAST-MODIFIED:20250428T234702Z
UID:883-1746367200-1746381600@streetplayeraz.com
SUMMARY:Mountain View Pub
DESCRIPTION:
URL:https://streetplayeraz.com/event/mountain-view-pub-46/
LOCATION:Mountain View Pub\, 7033 E Cave Creek Rd\, Cave Creek\, AZ\, 85331\, United States
END:VEVENT
BEGIN:VEVENT
DTSTART;TZID=America/New_York:20250425T123000
DTEND;TZID=America/New_York:20250425T163000
DTSTAMP:20260421T183427
CREATED:20250304T032801Z
LAST-MODIFIED:20250304T032801Z
UID:882-1745584200-1745598600@streetplayeraz.com
SUMMARY:Private event
DESCRIPTION:
URL:https://streetplayeraz.com/event/private-event-14/
LOCATION:AZ
END:VEVENT
BEGIN:VEVENT
DTSTART;TZID=America/New_York:20250417T170000
DTEND;TZID=America/New_York:20250417T200000
DTSTAMP:20260421T183427
CREATED:20250304T032707Z
LAST-MODIFIED:20250304T032707Z
UID:881-1744909200-1744920000@streetplayeraz.com
SUMMARY:I & J Fountain Restaurant (solo)
DESCRIPTION:
URL:https://streetplayeraz.com/event/i-j-fountain-restaurant-solo/
LOCATION:I and J Fountain Restaurant\, 12221 W. Bell Rd.\, Surprise\, AZ\, United States
END:VEVENT
BEGIN:VEVENT
DTSTART;TZID=America/New_York:20250411T180000
DTEND;TZID=America/New_York:20250411T210000
DTSTAMP:20260421T183427
CREATED:20250304T032524Z
LAST-MODIFIED:20250304T032524Z
UID:880-1744394400-1744405200@streetplayeraz.com
SUMMARY:Chandler Elks Lodge
DESCRIPTION:Members only
URL:https://streetplayeraz.com/event/chandler-elks-lodge-3/
LOCATION:AZ
END:VEVENT
BEGIN:VEVENT
DTSTART;TZID=America/New_York:20250409T160000
DTEND;TZID=America/New_York:20250409T190000
DTSTAMP:20260421T183427
CREATED:20250304T032425Z
LAST-MODIFIED:20250304T032425Z
UID:879-1744214400-1744225200@streetplayeraz.com
SUMMARY:Sunflower RV Resort
DESCRIPTION:Residents only
URL:https://streetplayeraz.com/event/sunflower-rv-resort-14/
LOCATION:AZ
END:VEVENT
BEGIN:VEVENT
DTSTART;TZID=America/New_York:20250406T140000
DTEND;TZID=America/New_York:20250406T180000
DTSTAMP:20260421T183427
CREATED:20250304T032226Z
LAST-MODIFIED:20250304T032226Z
UID:878-1743948000-1743962400@streetplayeraz.com
SUMMARY:Mountain View Pub
DESCRIPTION:
URL:https://streetplayeraz.com/event/mountain-view-pub-45/
LOCATION:Mountain View Pub\, 7033 E Cave Creek Rd\, Cave Creek\, AZ\, 85331\, United States
END:VEVENT
BEGIN:VEVENT
DTSTART;TZID=America/New_York:20250405T180000
DTEND;TZID=America/New_York:20250405T210000
DTSTAMP:20260421T183427
CREATED:20250304T032124Z
LAST-MODIFIED:20250304T032124Z
UID:877-1743876000-1743886800@streetplayeraz.com
SUMMARY:Scratch Bar and Grill
DESCRIPTION:
URL:https://streetplayeraz.com/event/scratch-bar-and-grill-3/
LOCATION:Scratch Bar and Grill\, 2401 S. Lansing\, Mesa\, AZ\, 85209\, United States
END:VEVENT
BEGIN:VEVENT
DTSTART;TZID=America/New_York:20250402T140000
DTEND;TZID=America/New_York:20250402T160000
DTSTAMP:20260421T183427
CREATED:20250304T031937Z
LAST-MODIFIED:20250304T032005Z
UID:876-1743602400-1743609600@streetplayeraz.com
SUMMARY:Road Haven RV Resort (Van and Richard)
DESCRIPTION:Residents only
URL:https://streetplayeraz.com/event/road-haven-rv-resort-van-and-richard/
LOCATION:AZ
END:VEVENT
BEGIN:VEVENT
DTSTART;TZID=America/New_York:20250328T180000
DTEND;TZID=America/New_York:20250328T210000
DTSTAMP:20260421T183427
CREATED:20250205T040012Z
LAST-MODIFIED:20250304T025547Z
UID:862-1743184800-1743195600@streetplayeraz.com
SUMMARY:Scratch Pub and Grill at Augusta Ranch
DESCRIPTION:
URL:https://streetplayeraz.com/event/scratch-pub-and-grill-at-augusta-ranch-3/
LOCATION:Scratch Bar and Grill\, 2401 S. Lansing\, Mesa\, AZ\, 85209\, United States
END:VEVENT
BEGIN:VEVENT
DTSTART;TZID=America/New_York:20250325T160000
DTEND;TZID=America/New_York:20250325T190000
DTSTAMP:20260421T183427
CREATED:20250205T040629Z
LAST-MODIFIED:20250205T040629Z
UID:866-1742918400-1742929200@streetplayeraz.com
SUMMARY:Sunflower RV Resort
DESCRIPTION:Residents only
URL:https://streetplayeraz.com/event/sunflower-rv-resort-12/
LOCATION:AZ
END:VEVENT
END:VCALENDAR